BEGIN:VCALENDAR
VERSION:2.0
PRODID:-//AHEPA D5 - ECPv6.15.17.1//NONSGML v1.0//EN
CALSCALE:GREGORIAN
METHOD:PUBLISH
X-ORIGINAL-URL:https://ahepad5.org
X-WR-CALDESC:Events for AHEPA D5
REFRESH-INTERVAL;VALUE=DURATION:PT1H
X-Robots-Tag:noindex
X-PUBLISHED-TTL:PT1H
BEGIN:VTIMEZONE
TZID:America/New_York
BEGIN:DAYLIGHT
TZOFFSETFROM:-0500
TZOFFSETTO:-0400
TZNAME:EDT
DTSTART:20240310T070000
END:DAYLIGHT
BEGIN:STANDARD
TZOFFSETFROM:-0400
TZOFFSETTO:-0500
TZNAME:EST
DTSTART:20241103T060000
END:STANDARD
BEGIN:DAYLIGHT
TZOFFSETFROM:-0500
TZOFFSETTO:-0400
TZNAME:EDT
DTSTART:20250309T070000
END:DAYLIGHT
BEGIN:STANDARD
TZOFFSETFROM:-0400
TZOFFSETTO:-0500
TZNAME:EST
DTSTART:20251102T060000
END:STANDARD
BEGIN:DAYLIGHT
TZOFFSETFROM:-0500
TZOFFSETTO:-0400
TZNAME:EDT
DTSTART:20260308T070000
END:DAYLIGHT
BEGIN:STANDARD
TZOFFSETFROM:-0400
TZOFFSETTO:-0500
TZNAME:EST
DTSTART:20261101T060000
END:STANDARD
BEGIN:DAYLIGHT
TZOFFSETFROM:-0500
TZOFFSETTO:-0400
TZNAME:EDT
DTSTART:20270314T070000
END:DAYLIGHT
BEGIN:STANDARD
TZOFFSETFROM:-0400
TZOFFSETTO:-0500
TZNAME:EST
DTSTART:20271107T060000
END:STANDARD
END:VTIMEZONE
BEGIN:VEVENT
DTSTART;TZID=America/New_York:20260111T130000
DTEND;TZID=America/New_York:20260111T153000
DTSTAMP:20260420T094037
CREATED:20251112T015337Z
LAST-MODIFIED:20251127T031409Z
UID:28588-1768136400-1768145400@ahepad5.org
SUMMARY:D5 AHEPA & DOP Lodge - Christmas Luncheon
DESCRIPTION:Our AHEPA D5 Lodge has coordinated with our Sisters of the D5 DOP Lodge to gather for a Christmas luncheon on Saturday\, 10JAN2026. \nLocation: Being planned in the New Brunswick area \nTime:  1 pm \nStay tuned for details.
URL:https://ahepad5.org/event/d5-ahepa-dop-lodge-luncheon-gathering/
CATEGORIES:Lodge Meeting
END:VEVENT
BEGIN:VEVENT
DTSTART;TZID=America/New_York:20250925T180000
DTEND;TZID=America/New_York:20250925T210000
DTSTAMP:20260420T094037
CREATED:20250915T195845Z
LAST-MODIFIED:20251014T013210Z
UID:28440-1758823200-1758834000@ahepad5.org
SUMMARY:D5 Welcomes Supreme Pres Chris Kaitson
DESCRIPTION:To all Chapters and all Brother of District 5 \nJoin us at this complimentary event to welcome and honor our new Supreme President Chris Kaitson \nThurs 25 September 2025 at the Sheraton Downtown in Phila. \nEveryone is encouraged to attend. The attached flyer provides all details for this event. This will be the venue for the upcoming Supreme Convention in 2026. \nChapters should notify our District 5 Lodge by Mon 22SEP of your attendees names for table arrangements to be made. \nFraternally\, \nLou Stefanou \nLocation: 201 N 17th St\, Philadelphia\, PA 19103 \nStart time: 6 pm
URL:https://ahepad5.org/event/d5-welcomes-supreme-pres-chris-kaitson/
LOCATION:Sheraton Downtown- Philly\, PA\, 201 N 17th St\, Philadelphia\, NJ\, 19103\, United States
CATEGORIES:Lodge Meeting
END:VEVENT
END:VCALENDAR