BEGIN:VCALENDAR
VERSION:2.0
PRODID:-//AHEPA D5 - ECPv6.15.17.1//NONSGML v1.0//EN
CALSCALE:GREGORIAN
METHOD:PUBLISH
X-WR-CALNAME:AHEPA D5
X-ORIGINAL-URL:https://ahepad5.org
X-WR-CALDESC:Events for AHEPA D5
REFRESH-INTERVAL;VALUE=DURATION:PT1H
X-Robots-Tag:noindex
X-PUBLISHED-TTL:PT1H
BEGIN:VTIMEZONE
TZID:America/New_York
BEGIN:DAYLIGHT
TZOFFSETFROM:-0500
TZOFFSETTO:-0400
TZNAME:EDT
DTSTART:20250309T070000
END:DAYLIGHT
BEGIN:STANDARD
TZOFFSETFROM:-0400
TZOFFSETTO:-0500
TZNAME:EST
DTSTART:20251102T060000
END:STANDARD
BEGIN:DAYLIGHT
TZOFFSETFROM:-0500
TZOFFSETTO:-0400
TZNAME:EDT
DTSTART:20260308T070000
END:DAYLIGHT
BEGIN:STANDARD
TZOFFSETFROM:-0400
TZOFFSETTO:-0500
TZNAME:EST
DTSTART:20261101T060000
END:STANDARD
BEGIN:DAYLIGHT
TZOFFSETFROM:-0500
TZOFFSETTO:-0400
TZNAME:EDT
DTSTART:20270314T070000
END:DAYLIGHT
BEGIN:STANDARD
TZOFFSETFROM:-0400
TZOFFSETTO:-0500
TZNAME:EST
DTSTART:20271107T060000
END:STANDARD
END:VTIMEZONE
BEGIN:VEVENT
DTSTART;TZID=America/New_York:20260317T190000
DTEND;TZID=America/New_York:20260317T213000
DTSTAMP:20260420T080140
CREATED:20260315T020008Z
LAST-MODIFIED:20260315T020008Z
UID:28671-1773774000-1773783000@ahepad5.org
SUMMARY:D5 Visitation - Holmdel Garden State #517
DESCRIPTION:D5 Visitation with our Brothers at Garden State #517 in Holmdel\, NJ. \nOur Lodge will be received at 7:00 pm (Dinner will be served) \nKimisis Tis Theotokou Greek Orthodox Church \n20 Hillcrest Road\, Holmdel\, NJ 07733
URL:https://ahepad5.org/event/d5-visitation-holmdel-garden-state-517/
LOCATION:Holmdel- Garden State #517\, 20 Hillcrest Road\, Holmdel\, NJ\, 07733\, United States
CATEGORIES:D5 Visitation
END:VEVENT
END:VCALENDAR